BEGIN:VCALENDAR
VERSION:2.0
PRODID:Social Circle, GA Calendar Creator
METHOD:PUBLISH
BEGIN:VEVENT
DTSTAMP:20250108T151238
DTSTART:20250612T090000
DTEND:20250612T100000
SUMMARY:Downtown Development Authority
DESCRIPTION:
X-ALT-DESC;FMTTYPE=text/html:
LOCATION:City Hall conference room\, 166 N. Cherokee Social Circle\, Georgia 30025
CLASS:PUBLIC
END:VEVENT
END:VCALENDAR
