BEGIN:VCALENDAR
VERSION:2.0
PRODID:Social Circle, GA Calendar Creator
METHOD:PUBLISH
BEGIN:VEVENT
DTSTAMP:20250401T131301
DTSTART:20250410T180000
DTEND:20250410T183000
SUMMARY:Downtown Development Authority
DESCRIPTION:
X-ALT-DESC;FMTTYPE=text/html:
LOCATION:City Community Room\, 138 East Hightower Trail Social Circle\, Georgia 30025
CLASS:PUBLIC
END:VEVENT
END:VCALENDAR
