BEGIN:VCALENDAR
VERSION:2.0
PRODID:Social Circle, GA Calendar Creator
METHOD:PUBLISH
BEGIN:VEVENT
DTSTAMP:20241226T101819
DTSTART:20250113T080000
DTEND:20250113T163000
SUMMARY:Planning Commission Application Submittal Deadline
DESCRIPTION:
X-ALT-DESC;FMTTYPE=text/html:
LOCATION:City Community Room\, 138 East Hightower Trail Social Circle\, Georgia 30025
CLASS:PUBLIC
END:VEVENT
END:VCALENDAR
