BEGIN:VCALENDAR
VERSION:2.0
PRODID:Social Circle, GA Calendar Creator
METHOD:PUBLISH
BEGIN:VEVENT
DTSTAMP:20241226T083943
DTSTART:20250114T080000
DTEND:20250114T090000
SUMMARY:Main Street Commission
DESCRIPTION:
X-ALT-DESC;FMTTYPE=text/html:
LOCATION:The Church at Stanton Springs\, 2504 Highway 278 S.E. Social Circle\, Georgia 30025
CLASS:PUBLIC
END:VEVENT
END:VCALENDAR
