BEGIN:VCALENDAR
VERSION:2.0
PRODID:Social Circle, GA Calendar Creator
METHOD:PUBLISH
BEGIN:VEVENT
DTSTAMP:20241223T130406
DTSTART:20250101T000000
DTEND:20250101T235900
SUMMARY:City Hall Closed - New Years
DESCRIPTION:City Hall will be closed in observance of New Years on January 1, 2025.
X-ALT-DESC;FMTTYPE=text/html:City Hall will be closed in observance of New Years on January 1, 2025.
LOCATION:
CLASS:PUBLIC
END:VEVENT
END:VCALENDAR
