BEGIN:VCALENDAR
VERSION:2.0
PRODID:Social Circle, GA Calendar Creator
METHOD:PUBLISH
BEGIN:VEVENT
DTSTAMP:20241205T082548
DTSTART:20241206T113000
DTEND:20241206T163000
SUMMARY:City Hall Closes at 11:30 a.m.
DESCRIPTION:City employees work hard all year long. In appreciation of their labor, City Hall will close at 11:30 a.m. this Friday, December 6, for the Employee Appreciation Luncheon. Thank you!
X-ALT-DESC;FMTTYPE=text/html:City employees work hard all year long. In appreciation of their labor, City Hall will close at 11:30 a.m. this Friday, December 6, for the Employee Appreciation Luncheon. Thank you!
LOCATION:
CLASS:PUBLIC
END:VEVENT
END:VCALENDAR
