BEGIN:VCALENDAR
VERSION:2.0
PRODID:Social Circle, GA Calendar Creator
METHOD:PUBLISH
BEGIN:VEVENT
DTSTAMP:20240909T113016
DTSTART:20240928T080000
DTEND:20240929T160000
SUMMARY:City Wide Cleanup and Dumpster Day
DESCRIPTION:Homeowners who have a utility account with the city can take bulk trash, like old furniture, to dumpsters located at the Public Works lot, 335 Vine Circle, Saturday, September 28, and Sunday, September 29, from 8:00 a.m. to 4:00 p.m. Please bring a current utility bill or recent tax bill to prove you are an existing City customer. City-wide cleanup assignments will be handled on Saturday, September 28, at 8:00 a.m. outside the Community Room. For more information, call City Hall at 770-464-2380.
X-ALT-DESC;FMTTYPE=text/html:Homeowners who have a utility account with the city can take bulk trash, like old furniture, to dumpsters located at the Public Works lot, 335 Vine Circle, Saturday, September 28, and Sunday, September 29, from 8:00 a.m. to 4:00 p.m. Please bring a current utility bill or recent tax bill to prove you are an existing City customer. City-wide cleanup assignments will be handled on Saturday, September 28, at 8:00 a.m. outside the Community Room. For more information, call City Hall at 770-464-2380.
LOCATION:
CLASS:PUBLIC
END:VEVENT
END:VCALENDAR
