BEGIN:VCALENDAR
VERSION:2.0
PRODID:Social Circle, GA Calendar Creator
METHOD:PUBLISH
BEGIN:VEVENT
DTSTAMP:20240806T151204
DTSTART:20241122T180000
DTEND:20241122T200000
SUMMARY:Christmas Tree Lighting and Celebration
DESCRIPTION:Join us for our annual Christmas Tree lighting and Christmas Celebration. We will kick off the night by lighting the tree, then walk through Friendship Park and participate in Christmas-themed games and activities. Santa and the Grinch will be there for free photos with the kids. Take a cup of hot chocolate, make smores, and go on a hayride around Downtown!
X-ALT-DESC;FMTTYPE=text/html:Join us for our annual Christmas Tree lighting and Christmas Celebration. We will kick off the night by lighting the tree, then walk through Friendship Park and participate in Christmas-themed games and activities. Santa and the Grinch will be there for free photos with the kids. Take a cup of hot chocolate, make smores, and go on a hayride around Downtown!
LOCATION:
CLASS:PUBLIC
END:VEVENT
END:VCALENDAR
