BEGIN:VCALENDAR
VERSION:2.0
PRODID:Social Circle, GA Calendar Creator
METHOD:PUBLISH
BEGIN:VEVENT
DTSTAMP:20240806T151029
DTSTART:20241031T160000
DTEND:20241031T180000
SUMMARY:Downtown Trick or Treating
DESCRIPTION:Trick or Treat at local businesses in Downtown Social Circle from 4pm-6pm, October 31, before the major trick or treating begins! If you have a business outside of our Downtown and would like to participate, please call 770-464-1866 for more information!
X-ALT-DESC;FMTTYPE=text/html:Trick or Treat at local businesses in Downtown Social Circle from 4pm-6pm, October 31, before the major trick or treating begins! If you have a business outside of our Downtown and would like to participate, please call 770-464-1866 for more information!
LOCATION:
CLASS:PUBLIC
END:VEVENT
END:VCALENDAR
