BEGIN:VCALENDAR
VERSION:2.0
PRODID:Social Circle, GA Calendar Creator
METHOD:PUBLISH
BEGIN:VEVENT
DTSTAMP:20240805T155941
DTSTART:20240824T190000
DTEND:20240824T210000
SUMMARY:Concert in the Park
DESCRIPTION:Saturday, August 24th,&nbsp; the last concert in the park this summer will be featuring The King Rollers, performing from 7pm-9pm. Bring your lawn chairs to Friendship Park early to secure the best spot.
X-ALT-DESC;FMTTYPE=text/html:Saturday, August 24th,&nbsp; the last concert in the park this summer will be featuring The King Rollers, performing from 7pm-9pm. Bring your lawn chairs to Friendship Park early to secure the best spot.
LOCATION:
CLASS:PUBLIC
END:VEVENT
END:VCALENDAR
