BEGIN:VCALENDAR
VERSION:2.0
PRODID:Social Circle, GA Calendar Creator
METHOD:PUBLISH
BEGIN:VEVENT
DTSTAMP:20240801T115646
DTSTART:20240820T183000
DTEND:20240820T193000
SUMMARY:Property Tax Public Hearings and Adoption
DESCRIPTION:
X-ALT-DESC;FMTTYPE=text/html:
LOCATION:City Community Room\, 138 East Hightower Trail Social Circle\, Georgia 30025
CLASS:PUBLIC
END:VEVENT
END:VCALENDAR
