BEGIN:VCALENDAR
VERSION:2.0
PRODID:Social Circle, GA Calendar Creator
METHOD:PUBLISH
BEGIN:VEVENT
DTSTAMP:20240719T081123
DTSTART:20240726T180000
DTEND:20240726T200000
SUMMARY:Back to School Celebration
DESCRIPTION:Join us Wednesday, July 26 for our Back to School Celebration at the Middle School Activity Center (Gym)!&nbsp;<br>This event is to celebrate the new school year. There will be lots of kid friendly activities, crafts, and treats!<br>If you are a business, club, or organization and would like to participate in this event; contact the Welcome Center @ 770-464-1866
X-ALT-DESC;FMTTYPE=text/html:Join us Wednesday, July 26 for our Back to School Celebration at the Middle School Activity Center (Gym)!&nbsp;<br>This event is to celebrate the new school year. There will be lots of kid friendly activities, crafts, and treats!<br>If you are a business, club, or organization and would like to participate in this event; contact the Welcome Center @ 770-464-1866
LOCATION:
CLASS:PUBLIC
END:VEVENT
END:VCALENDAR
