BEGIN:VCALENDAR
VERSION:2.0
PRODID:Social Circle, GA Calendar Creator
METHOD:PUBLISH
BEGIN:VEVENT
DTSTAMP:20240515T133527
DTSTART:20240618T183000
DTEND:20240618T235900
SUMMARY:2025 Budget Consideration for Adoption
DESCRIPTION:&nbsp;
X-ALT-DESC;FMTTYPE=text/html:&nbsp;
LOCATION:
CLASS:PUBLIC
END:VEVENT
END:VCALENDAR
