BEGIN:VCALENDAR
VERSION:2.0
PRODID:Social Circle, GA Calendar Creator
METHOD:PUBLISH
BEGIN:VEVENT
DTSTAMP:20241223T130347
DTSTART:20241225T000000
DTEND:20241225T235900
SUMMARY:Christmas Day - City Hall is Closed
DESCRIPTION:December 25th is Christmas Day. City Hall will be closed.&nbsp;
X-ALT-DESC;FMTTYPE=text/html:December 25th is Christmas Day. City Hall will be closed.&nbsp;
LOCATION:
CLASS:PUBLIC
END:VEVENT
END:VCALENDAR
