BEGIN:VCALENDAR
VERSION:2.0
PRODID:Social Circle, GA Calendar Creator
METHOD:PUBLISH
BEGIN:VEVENT
DTSTAMP:20240419T110132
DTSTART:20240902T000000
DTEND:20240902T235900
SUMMARY:Labor Day - City Hall is Closed
DESCRIPTION:Labor Day is September 2nd. City Hall will be closed.&nbsp;
X-ALT-DESC;FMTTYPE=text/html:Labor Day is September 2nd. City Hall will be closed.&nbsp;
LOCATION:
CLASS:PUBLIC
END:VEVENT
END:VCALENDAR
