BEGIN:VCALENDAR
VERSION:2.0
PRODID:Social Circle, GA Calendar Creator
METHOD:PUBLISH
BEGIN:VEVENT
DTSTAMP:20240220T110555
DTSTART:20240517T080000
DTEND:20240519T160000
SUMMARY:Citywide Yard Sale Weekend
DESCRIPTION:Spring cleaning continues with the Citywide yard sale weekend May 17-19. Residents do not have to have a permit to hold a yard sale this weekend. To be added to the list of participants, call 770-464-1866 by 4:00 p.m. on May 10. A list of participants will be released on May 13. Have fun treasure hunting!&nbsp;
X-ALT-DESC;FMTTYPE=text/html:Spring cleaning continues with the Citywide yard sale weekend May 17-19. Residents do not have to have a permit to hold a yard sale this weekend. To be added to the list of participants, call 770-464-1866 by 4:00 p.m. on May 10. A list of participants will be released on May 13. Have fun treasure hunting!&nbsp;
LOCATION:
CLASS:PUBLIC
END:VEVENT
END:VCALENDAR
