BEGIN:VCALENDAR
VERSION:2.0
PRODID:Social Circle, GA Calendar Creator
METHOD:PUBLISH
BEGIN:VEVENT
DTSTAMP:20240201T103249
DTSTART:20240504T180000
DTEND:20240504T200000
SUMMARY:Cinco de Mayo Beer Crawl
DESCRIPTION:Celebrate the culture and heritage of Mexico on Saturday, May 4 for the "almost" Cinco De Mayo Beer Crawl in Downtown Social Circle. The event is from 6:00-8:00 p.m. Cinco de Mayo, which is typically celebrated on May 5, commemorates Mexico’s victory over France in 1862, at the Battle of Puebla when the two countries were at war.
X-ALT-DESC;FMTTYPE=text/html:Celebrate the culture and heritage of Mexico on Saturday, May 4 for the "almost" Cinco De Mayo Beer Crawl in Downtown Social Circle. The event is from 6:00-8:00 p.m. Cinco de Mayo, which is typically celebrated on May 5, commemorates Mexico’s victory over France in 1862, at the Battle of Puebla when the two countries were at war.
LOCATION:
CLASS:PUBLIC
END:VEVENT
END:VCALENDAR
