BEGIN:VCALENDAR
VERSION:2.0
PRODID:Social Circle, GA Calendar Creator
METHOD:PUBLISH
BEGIN:VEVENT
DTSTAMP:20240131T152300
DTSTART:20240420T100000
DTEND:20240420T160000
SUMMARY:Social Circle Day
DESCRIPTION:<p>Social Circle Day is a NEW Downtown event. It is the spring version of Social Circle's signature fall festival. Gather your friends and family together to enjoy food, arts and crafts, specialty vendors and entertainment from 10:00 a.m.-4:00 p.m. on Saturday, April 20.</p><p>If interested in being a vendor, contact <a href="mailto:amckibben@socialcirclega.gov?subject=amckibben@socialcirclega.gov" id="email_1706732501569" title="amckibben@socialcirclega.gov">Amber McKibben</a>. Click <a href="https://social.prod-as.govaccess.org/home/showpublisheddocument/918/638422083269470000" target="_blank" id="link_1706732539244">here</a> for a vendor application.&nbsp;</p>
X-ALT-DESC;FMTTYPE=text/html:<p>Social Circle Day is a NEW Downtown event. It is the spring version of Social Circle's signature fall festival. Gather your friends and family together to enjoy food, arts and crafts, specialty vendors and entertainment from 10:00 a.m.-4:00 p.m. on Saturday, April 20.</p><p>If interested in being a vendor, contact <a href="mailto:amckibben@socialcirclega.gov?subject=amckibben@socialcirclega.gov" id="email_1706732501569" title="amckibben@socialcirclega.gov">Amber McKibben</a>. Click <a href="https://social.prod-as.govaccess.org/home/showpublisheddocument/918/638422083269470000" target="_blank" id="link_1706732539244">here</a> for a vendor application.&nbsp;</p>
LOCATION:
CLASS:PUBLIC
END:VEVENT
END:VCALENDAR
