BEGIN:VCALENDAR
VERSION:2.0
PRODID:Social Circle, GA Calendar Creator
METHOD:PUBLISH
BEGIN:VEVENT
DTSTAMP:20240131T141803
DTSTART:20240315T180000
DTEND:20240315T200000
SUMMARY:Saint Patrick's Day Beer Crawl
DESCRIPTION:A Saint Patrick's Day Beer Crawl will be held in Downtown Social Circle from 6:00-8:00 p.m. on March 15.&nbsp;
X-ALT-DESC;FMTTYPE=text/html:A Saint Patrick's Day Beer Crawl will be held in Downtown Social Circle from 6:00-8:00 p.m. on March 15.&nbsp;
LOCATION:
CLASS:PUBLIC
END:VEVENT
END:VCALENDAR
