BEGIN:VCALENDAR
VERSION:2.0
PRODID:Social Circle, GA Calendar Creator
METHOD:PUBLISH
BEGIN:VEVENT
DTSTAMP:20240126T143207
DTSTART:20240215T100000
DTEND:20240215T110000
SUMMARY:Arbor Day observance
DESCRIPTION:An Arbor Day observance will be held at 10:00 a.m. Feb. 15  at Gunter Hall, 403 W. Hightower Trail.
X-ALT-DESC;FMTTYPE=text/html:An Arbor Day observance will be held at 10:00 a.m. Feb. 15  at Gunter Hall, 403 W. Hightower Trail.
LOCATION:Gunter Hall\, 403 W. Hightower Trail Social Circle\, Georgia 30025
CLASS:PUBLIC
END:VEVENT
END:VCALENDAR
