BEGIN:VCALENDAR
VERSION:2.0
PRODID:Social Circle, GA Calendar Creator
METHOD:PUBLISH
BEGIN:VEVENT
DTSTAMP:20240119T125127
DTSTART:20240208T180000
DTEND:20240208T200000
SUMMARY:Downtown Chocolate Crawl
DESCRIPTION:Start the romantic month of February off on a sweet note! The annual Downtown Chocolate Crawl is from 6:00-8:00 p.m. Thursday, Feb. 8. Shop, dine, and stroll through historic downtown Social Circle gathering scrumptious treats along the way. If you need more information, contact Downtown Director Amber McKibben at <a href="mailto:amckibben@socialcirclega.gov?subject=amckibben@socialcirclega.gov" id="email_1705686372910" title="amckibben@socialcirclega.gov">amckibben@socialcirclega.gov</a>.&nbsp;
X-ALT-DESC;FMTTYPE=text/html:Start the romantic month of February off on a sweet note! The annual Downtown Chocolate Crawl is from 6:00-8:00 p.m. Thursday, Feb. 8. Shop, dine, and stroll through historic downtown Social Circle gathering scrumptious treats along the way. If you need more information, contact Downtown Director Amber McKibben at <a href="mailto:amckibben@socialcirclega.gov?subject=amckibben@socialcirclega.gov" id="email_1705686372910" title="amckibben@socialcirclega.gov">amckibben@socialcirclega.gov</a>.&nbsp;
LOCATION:
CLASS:PUBLIC
END:VEVENT
END:VCALENDAR
