BEGIN:VCALENDAR
VERSION:2.0
PRODID:Social Circle, GA Calendar Creator
METHOD:PUBLISH
BEGIN:VEVENT
DTSTAMP:20240119T122222
DTSTART:20240119T180000
DTEND:20240119T210000
SUMMARY:City/School Annual Retreat
DESCRIPTION:City and School leaders will meet at 6 p.m. Jan. 19 for an annual retreat in the SCCS board office.&nbsp;
X-ALT-DESC;FMTTYPE=text/html:City and School leaders will meet at 6 p.m. Jan. 19 for an annual retreat in the SCCS board office.&nbsp;
LOCATION:Board of Education Office\, 147 Alcova Drive Social Circle\, Georgia 30025
CLASS:PUBLIC
END:VEVENT
END:VCALENDAR
