BEGIN:VCALENDAR
VERSION:2.0
PRODID:Social Circle, GA Calendar Creator
METHOD:PUBLISH
BEGIN:VEVENT
DTSTAMP:20240326T155547
DTSTART:20240429T080000
DTEND:20240429T160000
SUMMARY:HPC Application Submittal Deadline
DESCRIPTION:<span style="text-decoration: underline;"><em><strong><span style="color: rgb(255, 0, 0);">APPLICATIONS ARE DUE NO LATER THAN 4 P.M.</span></strong></em></span>
X-ALT-DESC;FMTTYPE=text/html:<span style="text-decoration: underline;"><em><strong><span style="color: rgb(255, 0, 0);">APPLICATIONS ARE DUE NO LATER THAN 4 P.M.</span></strong></em></span>
LOCATION:
CLASS:PUBLIC
END:VEVENT
END:VCALENDAR
