BEGIN:VCALENDAR
VERSION:2.0
PRODID:Social Circle, GA Calendar Creator
METHOD:PUBLISH
BEGIN:VEVENT
DTSTAMP:20240326T162749
DTSTART:20240610T080000
DTEND:20240610T160000
SUMMARY:Planning Commission Application Submittal Deadline
DESCRIPTION:<span style="text-decoration: underline; color: rgb(255, 0, 0);"><em><strong>ALL APPLICATIONS ARE DUE BY 4:00 P.M.</strong></em></span>
X-ALT-DESC;FMTTYPE=text/html:<span style="text-decoration: underline; color: rgb(255, 0, 0);"><em><strong>ALL APPLICATIONS ARE DUE BY 4:00 P.M.</strong></em></span>
LOCATION:
CLASS:PUBLIC
END:VEVENT
END:VCALENDAR
