BEGIN:VCALENDAR
VERSION:2.0
PRODID:Social Circle, GA Calendar Creator
METHOD:PUBLISH
BEGIN:VEVENT
DTSTAMP:20240326T155358
DTSTART:20240415T080000
DTEND:20240415T160000
SUMMARY:Planning Commission Application Submittal Deadline
DESCRIPTION:<p><span style="color: rgb(255, 0, 0);"><span style="text-decoration: underline;"><em><strong>APPLICATIONS ARE DUE NO LATER THAN 4 P.M.</strong></em></span></span></p><p>&nbsp;</p>
X-ALT-DESC;FMTTYPE=text/html:<p><span style="color: rgb(255, 0, 0);"><span style="text-decoration: underline;"><em><strong>APPLICATIONS ARE DUE NO LATER THAN 4 P.M.</strong></em></span></span></p><p>&nbsp;</p>
LOCATION:
CLASS:PUBLIC
END:VEVENT
END:VCALENDAR
