BEGIN:VCALENDAR
VERSION:2.0
PRODID:Social Circle, GA Calendar Creator
METHOD:PUBLISH
BEGIN:VEVENT
DTSTAMP:20240326T155613
DTSTART:20240725T180000
DTEND:20240725T190000
SUMMARY:Tree Board
DESCRIPTION:.The Tree Board in its new role provides educational and community outreach and plans Arbor Day observances.
X-ALT-DESC;FMTTYPE=text/html:.The Tree Board in its new role provides educational and community outreach and plans Arbor Day observances.
LOCATION:City Community Room\, 138 East Hightower Trail Social Circle\, Georgia 30025
CLASS:PUBLIC
END:VEVENT
END:VCALENDAR
