BEGIN:VCALENDAR
VERSION:2.0
PRODID:Social Circle, GA Calendar Creator
METHOD:PUBLISH
BEGIN:VEVENT
DTSTAMP:20231130T125225
DTSTART:20231208T113000
DTEND:20231208T163000
SUMMARY:City Hall to close early
DESCRIPTION:City Hall and the Drive-thru will close at 11:30 a.m. on Friday, Dec. 8. We will reopen at 8:00 a.m. Monday, Dec. 11.
X-ALT-DESC;FMTTYPE=text/html:City Hall and the Drive-thru will close at 11:30 a.m. on Friday, Dec. 8. We will reopen at 8:00 a.m. Monday, Dec. 11.
LOCATION:City Hall\, 166 N. Cherokee Social Circle\, Georgia 30025
CLASS:PUBLIC
END:VEVENT
END:VCALENDAR
