BEGIN:VCALENDAR
VERSION:2.0
PRODID:Social Circle, GA Calendar Creator
METHOD:PUBLISH
BEGIN:VEVENT
DTSTAMP:20231214T114818
DTSTART:20240101T000000
DTEND:20240101T235900
SUMMARY:City Hall is closed on New Year's Day
DESCRIPTION:Happy New Year! We will reopen Jan. 2, 2024.
X-ALT-DESC;FMTTYPE=text/html:Happy New Year! We will reopen Jan. 2, 2024.
LOCATION:
CLASS:PUBLIC
END:VEVENT
END:VCALENDAR
