BEGIN:VCALENDAR
VERSION:2.0
PRODID:Social Circle, GA Calendar Creator
METHOD:PUBLISH
BEGIN:VEVENT
DTSTAMP:20231113T135612
DTSTART:20231125T100000
DTEND:20231125T170000
SUMMARY:Shop Small Weekend
DESCRIPTION:Patronize downtown shops owned by your friends and neighbors and get a jump on your holiday shopping!
X-ALT-DESC;FMTTYPE=text/html:Patronize downtown shops owned by your friends and neighbors and get a jump on your holiday shopping!
LOCATION:
CLASS:PUBLIC
END:VEVENT
END:VCALENDAR
