BEGIN:VCALENDAR
VERSION:2.0
PRODID:Social Circle, GA Calendar Creator
METHOD:PUBLISH
BEGIN:VEVENT
DTSTAMP:20231103T082542
DTSTART:20231109T180000
DTEND:20231109T190000
SUMMARY:CALLED Tree Board Meeting
DESCRIPTION:<p>The Tree Board was created to protect and preserve the trees within the City's public spaces and in its new role will provide educational outreach to the community about the importance of trees.</p><p>The Tree Board is an appointed body, and as such its members do not speak to applicants about proposed projects outside of public hearings or meetings. All communication must go through the&nbsp;<a href="mailto:adavis@socialcirclega.gov" id="email_1674770445052">Community Development Department</a>.&nbsp;</p>
X-ALT-DESC;FMTTYPE=text/html:<p>The Tree Board was created to protect and preserve the trees within the City's public spaces and in its new role will provide educational outreach to the community about the importance of trees.</p><p>The Tree Board is an appointed body, and as such its members do not speak to applicants about proposed projects outside of public hearings or meetings. All communication must go through the&nbsp;<a href="mailto:adavis@socialcirclega.gov" id="email_1674770445052">Community Development Department</a>.&nbsp;</p>
LOCATION:City Community Room\, 138 East Hightower Trail Social Circle\, Georgia 30025
CLASS:PUBLIC
END:VEVENT
END:VCALENDAR
