BEGIN:VCALENDAR
VERSION:2.0
PRODID:Social Circle, GA Calendar Creator
METHOD:PUBLISH
BEGIN:VEVENT
DTSTAMP:20231005T124458
DTSTART:20231021T090000
DTEND:20231021T120000
SUMMARY:Citywide Cleanup
DESCRIPTION:Join friends and neighbors in the City Community Room, 138 E. Hightower Trail (behind the Police Department, use the side door) Saturday morning at 9:00 a.m. for a Citywide Cleanup Day! Upon check-in you will receive the necessary supplies and a street assignment. Let's spruce up our town before we get busy with Fall and Winter holiday events! For details on the Cleanup, email&nbsp;<a href="mailto:amckibben@socialcirclega.gov?subject=amckibben@socialcirclega.gov" id="amckibben@socialcirclega.gov" title="amckibben@socialcirclega.gov">Downtown Director Amber McKibben</a>&nbsp;or call 770-464-1866.
X-ALT-DESC;FMTTYPE=text/html:Join friends and neighbors in the City Community Room, 138 E. Hightower Trail (behind the Police Department, use the side door) Saturday morning at 9:00 a.m. for a Citywide Cleanup Day! Upon check-in you will receive the necessary supplies and a street assignment. Let's spruce up our town before we get busy with Fall and Winter holiday events! For details on the Cleanup, email&nbsp;<a href="mailto:amckibben@socialcirclega.gov?subject=amckibben@socialcirclega.gov" id="amckibben@socialcirclega.gov" title="amckibben@socialcirclega.gov">Downtown Director Amber McKibben</a>&nbsp;or call 770-464-1866.
LOCATION:City Community Room\, 138 East Hightower Trail Social Circle\, Georgia 30025
CLASS:PUBLIC
END:VEVENT
END:VCALENDAR
