BEGIN:VCALENDAR
VERSION:2.0
PRODID:Social Circle, GA Calendar Creator
METHOD:PUBLISH
BEGIN:VEVENT
DTSTAMP:20231005T100703
DTSTART:20231021T080000
DTEND:20231021T160000
SUMMARY:Dumpster Day
DESCRIPTION:<p>The City of Social Circle will hold a Fall Dumpster Days weekend from 8:00 a.m.-4:00 p.m. Oct. 21 and 22 at the Public Works lot, 335 Vine Circle. City utility customers can dispose of bulk trash like old furniture or tires off the rim. Bring a copy of your current utility or tax bill. Proof of an existing utility account will be checked prior to entering the dump site. Paint, construction materials, batteries of any kind, and refrigerators or freezers – anything with freon – will NOT be accepted. Non-utility customers can take their items to the Keep Walton Beautiful Dump Site at 2051 Leroy Anderson Drive in Monroe. Thank you.</p>
X-ALT-DESC;FMTTYPE=text/html:<p>The City of Social Circle will hold a Fall Dumpster Days weekend from 8:00 a.m.-4:00 p.m. Oct. 21 and 22 at the Public Works lot, 335 Vine Circle. City utility customers can dispose of bulk trash like old furniture or tires off the rim. Bring a copy of your current utility or tax bill. Proof of an existing utility account will be checked prior to entering the dump site. Paint, construction materials, batteries of any kind, and refrigerators or freezers – anything with freon – will NOT be accepted. Non-utility customers can take their items to the Keep Walton Beautiful Dump Site at 2051 Leroy Anderson Drive in Monroe. Thank you.</p>
LOCATION:Public Works\, 335 Vine Circle Social Circle\, Georgia 30025
CLASS:PUBLIC
END:VEVENT
END:VCALENDAR
