BEGIN:VCALENDAR
VERSION:2.0
PRODID:Social Circle, GA Calendar Creator
METHOD:PUBLISH
BEGIN:VEVENT
DTSTAMP:20231214T114800
DTSTART:20231225T000000
DTEND:20231225T235900
SUMMARY:City Hall is closed for Christmas
DESCRIPTION:City Hall will reopen Dec. 27 after the Christmas holiday.
X-ALT-DESC;FMTTYPE=text/html:City Hall will reopen Dec. 27 after the Christmas holiday.
LOCATION:City Hall conference room\, 166 N. Cherokee Social Circle\, Georgia 30025
CLASS:PUBLIC
END:VEVENT
END:VCALENDAR
