BEGIN:VCALENDAR
VERSION:2.0
PRODID:Social Circle, GA Calendar Creator
METHOD:PUBLISH
BEGIN:VEVENT
DTSTAMP:20240326T155847
DTSTART:20240827T180000
DTEND:20240827T190000
SUMMARY:Planning Commission meeting
DESCRIPTION:The Planning/Corridor Commission was established to facilitate a coordinated and harmonious development of the City. The Planning/Corridor Commission is established to protect and enhance the Highway 11 and the North Cherokee Road and South Cherokee Road Corridors&nbsp;as these corridors have a direct impact on places, with special historical, cultural, or aesthetic interest or values.
X-ALT-DESC;FMTTYPE=text/html:The Planning/Corridor Commission was established to facilitate a coordinated and harmonious development of the City. The Planning/Corridor Commission is established to protect and enhance the Highway 11 and the North Cherokee Road and South Cherokee Road Corridors&nbsp;as these corridors have a direct impact on places, with special historical, cultural, or aesthetic interest or values.
LOCATION:City Community Room\, 138 East Hightower Trail Social Circle\, Georgia 30025
CLASS:PUBLIC
END:VEVENT
END:VCALENDAR
