BEGIN:VCALENDAR
VERSION:2.0
PRODID:Social Circle, GA Calendar Creator
METHOD:PUBLISH
BEGIN:VEVENT
DTSTAMP:20231004T142800
DTSTART:20241003T183000
DTEND:20241003T193000
SUMMARY:Mayor and City Council Work Session
DESCRIPTION:Link to the meeting agendas&nbsp;<a href="http://socialcirclecityga.iqm2.com/Citizens/Default.aspx" target="_blank" id="link_1696442701208">page</a>.
X-ALT-DESC;FMTTYPE=text/html:Link to the meeting agendas&nbsp;<a href="http://socialcirclecityga.iqm2.com/Citizens/Default.aspx" target="_blank" id="link_1696442701208">page</a>.
LOCATION:City Community Room\, 138 East Hightower Trail Social Circle\, Georgia 30025
CLASS:PUBLIC
END:VEVENT
END:VCALENDAR
