BEGIN:VCALENDAR
VERSION:2.0
PRODID:Social Circle, GA Calendar Creator
METHOD:PUBLISH
BEGIN:VEVENT
DTSTAMP:20230822T082737
DTSTART:20230928T140000
DTEND:20230928T150000
SUMMARY:Public Meeting on Water System Improvements
DESCRIPTION:A public meeting will be held at 2:00 p.m. Thursday, Sept. 28, 2023, to provide an opportunity for public input on the proposed project. The purpose of the project is to provide improved water pressure fire flow and supply to several areas of the City through the installation of 12,725 LF of 6”, 8, 10” and 12” water mains, fire hydrants and other appurtenances. The project also includes the installation of electrical and telemetry improvements to the Social Circle Water Treatment Facility.<br>The meeting will focus on the presentation and discussion of the project <a href="https://social.prod-as.govaccess.org/home/showpublisheddocument/822/638282885495070000" target="_blank" id="link_1692707140113">Environmental Planning Document</a> in accordance with requirements of the Georgia Environmental Protection Division (EPD). The discussion will include an overview of the planned facilities, the estimated construction cost of the project and the improvements in environmental protection that will be achieved through the successful implementation of the project. The Environmental Planning Document is available for review on the Social Circle website (www.socialcircle.gov). The meeting is open to the public and all interested parties are encouraged to attend. Comments/questions related to the project will be accepted in advance of the meeting by writing to Natalie Pifer at 861np@ppi.us. All comments received in advance of the meeting will be read and responded to during the public meeting. Additional information may be obtained by contacting Robbie Groves, Public Works Director at 166 N. Cherokee Street, Social Circle, Ga 30025. (770) 464-2380.
X-ALT-DESC;FMTTYPE=text/html:A public meeting will be held at 2:00 p.m. Thursday, Sept. 28, 2023, to provide an opportunity for public input on the proposed project. The purpose of the project is to provide improved water pressure fire flow and supply to several areas of the City through the installation of 12,725 LF of 6”, 8, 10” and 12” water mains, fire hydrants and other appurtenances. The project also includes the installation of electrical and telemetry improvements to the Social Circle Water Treatment Facility.<br>The meeting will focus on the presentation and discussion of the project <a href="https://social.prod-as.govaccess.org/home/showpublisheddocument/822/638282885495070000" target="_blank" id="link_1692707140113">Environmental Planning Document</a> in accordance with requirements of the Georgia Environmental Protection Division (EPD). The discussion will include an overview of the planned facilities, the estimated construction cost of the project and the improvements in environmental protection that will be achieved through the successful implementation of the project. The Environmental Planning Document is available for review on the Social Circle website (www.socialcircle.gov). The meeting is open to the public and all interested parties are encouraged to attend. Comments/questions related to the project will be accepted in advance of the meeting by writing to Natalie Pifer at 861np@ppi.us. All comments received in advance of the meeting will be read and responded to during the public meeting. Additional information may be obtained by contacting Robbie Groves, Public Works Director at 166 N. Cherokee Street, Social Circle, Ga 30025. (770) 464-2380.
LOCATION:City Hall conference room\, 166 N. Cherokee Social Circle\, Georgia 30025
CLASS:PUBLIC
END:VEVENT
END:VCALENDAR
