BEGIN:VCALENDAR
VERSION:2.0
PRODID:Social Circle, GA Calendar Creator
METHOD:PUBLISH
BEGIN:VEVENT
DTSTAMP:20230905T081507
DTSTART:20230905T100000
DTEND:20230905T160000
SUMMARY:CANCELLED! Tax Sale Sept. 5, 2023
DESCRIPTION:<p>There will be sold for cash or certified funds at public outcry, before the city hall door in Social Circle, Walton County, Georgia, between the legal hours of sale, on the first Tuesday in September, 2023, the same being September 5, 2023, and continuing on Wednesday, September 6, 2023, if necessary between the legal hours of sale, 10:00 AM and 4:00 PM.</p><p>&nbsp;The <a href="https://social.prod-as.govaccess.org/home/showpublisheddocument/812/638277102709270000" target="_blank" id="link_1692129845956">notice</a> and the<a href="https://social.prod-as.govaccess.org/home/showpublisheddocument/846/638291827063070000" target="_blank" id="link_1693600432195"> list of delinquent properties </a>can be found at <a href="https://www.socialcirclega.gov/visitors/public-notices" target="_blank" id="link_1692129999088">www.socialcirclega.gov under residents/public notices</a>.&nbsp;</p><p>&nbsp;</p>
X-ALT-DESC;FMTTYPE=text/html:<p>There will be sold for cash or certified funds at public outcry, before the city hall door in Social Circle, Walton County, Georgia, between the legal hours of sale, on the first Tuesday in September, 2023, the same being September 5, 2023, and continuing on Wednesday, September 6, 2023, if necessary between the legal hours of sale, 10:00 AM and 4:00 PM.</p><p>&nbsp;The <a href="https://social.prod-as.govaccess.org/home/showpublisheddocument/812/638277102709270000" target="_blank" id="link_1692129845956">notice</a> and the<a href="https://social.prod-as.govaccess.org/home/showpublisheddocument/846/638291827063070000" target="_blank" id="link_1693600432195"> list of delinquent properties </a>can be found at <a href="https://www.socialcirclega.gov/visitors/public-notices" target="_blank" id="link_1692129999088">www.socialcirclega.gov under residents/public notices</a>.&nbsp;</p><p>&nbsp;</p>
LOCATION:
CLASS:PUBLIC
END:VEVENT
END:VCALENDAR
