BEGIN:VCALENDAR
VERSION:2.0
PRODID:Social Circle, GA Calendar Creator
METHOD:PUBLISH
BEGIN:VEVENT
DTSTAMP:20230801T161511
DTSTART:20230803T120000
DTEND:20230803T123000
SUMMARY:Public Hearing on Property Tax Rate
DESCRIPTION:<p>Mayor and City Council are considering a tax rate of 7.900 mills or 0.007900.&nbsp; This is an increase of 0% from the current rate of 7.900 mills or 0.007900.&nbsp;</p><p>Three public hearings have been scheduled on the proposal of a 7.9 mill property tax rate.&nbsp;&nbsp;Public Hearing dates and times are:</p><p>August 3, 2023&nbsp;&nbsp;&nbsp;&nbsp;&nbsp;&nbsp;&nbsp;&nbsp;&nbsp;&nbsp;&nbsp;&nbsp;&nbsp; 12:00 PM&nbsp;&nbsp;&nbsp;&nbsp;&nbsp;&nbsp;&nbsp;&nbsp;&nbsp; Community Room, 138 E Hightower Trail</p><p>August 3, 2023&nbsp; &nbsp;&nbsp;&nbsp;&nbsp;&nbsp;&nbsp;&nbsp;&nbsp;&nbsp;&nbsp;&nbsp; &nbsp; 6:30 PM&nbsp;&nbsp;&nbsp;&nbsp;&nbsp;&nbsp;&nbsp;&nbsp;&nbsp; Community Room, 138 E Hightower Trail</p><p>August 15, 2022&nbsp;&nbsp;&nbsp;&nbsp;&nbsp;&nbsp;&nbsp;&nbsp;&nbsp;&nbsp;&nbsp; &nbsp; 6:30 PM&nbsp;&nbsp;&nbsp;&nbsp;&nbsp;&nbsp;&nbsp;&nbsp;&nbsp; Community Room, 138 E Hightower Trail</p><p>The <a href="https://social.prod-as.govaccess.org/home/showpublisheddocument/790/638264059718700000" target="_blank" id="link_1690920700450">public notice</a> on the proposed Property Tax rate and <a href="https://social.prod-as.govaccess.org/home/showpublisheddocument/788/638264059689500000" target="_blank" id="link_1690920718828">5-year history</a> can also be found on the <a href="https://www.socialcirclega.gov/visitors/public-notices" target="_blank" id="link_1690920761893">Public Notices page</a>.</p>
X-ALT-DESC;FMTTYPE=text/html:<p>Mayor and City Council are considering a tax rate of 7.900 mills or 0.007900.&nbsp; This is an increase of 0% from the current rate of 7.900 mills or 0.007900.&nbsp;</p><p>Three public hearings have been scheduled on the proposal of a 7.9 mill property tax rate.&nbsp;&nbsp;Public Hearing dates and times are:</p><p>August 3, 2023&nbsp;&nbsp;&nbsp;&nbsp;&nbsp;&nbsp;&nbsp;&nbsp;&nbsp;&nbsp;&nbsp;&nbsp;&nbsp; 12:00 PM&nbsp;&nbsp;&nbsp;&nbsp;&nbsp;&nbsp;&nbsp;&nbsp;&nbsp; Community Room, 138 E Hightower Trail</p><p>August 3, 2023&nbsp; &nbsp;&nbsp;&nbsp;&nbsp;&nbsp;&nbsp;&nbsp;&nbsp;&nbsp;&nbsp;&nbsp; &nbsp; 6:30 PM&nbsp;&nbsp;&nbsp;&nbsp;&nbsp;&nbsp;&nbsp;&nbsp;&nbsp; Community Room, 138 E Hightower Trail</p><p>August 15, 2022&nbsp;&nbsp;&nbsp;&nbsp;&nbsp;&nbsp;&nbsp;&nbsp;&nbsp;&nbsp;&nbsp; &nbsp; 6:30 PM&nbsp;&nbsp;&nbsp;&nbsp;&nbsp;&nbsp;&nbsp;&nbsp;&nbsp; Community Room, 138 E Hightower Trail</p><p>The <a href="https://social.prod-as.govaccess.org/home/showpublisheddocument/790/638264059718700000" target="_blank" id="link_1690920700450">public notice</a> on the proposed Property Tax rate and <a href="https://social.prod-as.govaccess.org/home/showpublisheddocument/788/638264059689500000" target="_blank" id="link_1690920718828">5-year history</a> can also be found on the <a href="https://www.socialcirclega.gov/visitors/public-notices" target="_blank" id="link_1690920761893">Public Notices page</a>.</p>
LOCATION:City Community Room\, 138 East Hightower Trail Social Circle\, Georgia 30025
CLASS:PUBLIC
END:VEVENT
END:VCALENDAR
