BEGIN:VCALENDAR
VERSION:2.0
PRODID:Social Circle, GA Calendar Creator
METHOD:PUBLISH
BEGIN:VEVENT
DTSTAMP:20230815T161941
DTSTART:20230914T180000
DTEND:20230914T190000
SUMMARY:Community Meeting on Brownfields Grant for DDASC
DESCRIPTION:A <a href="https://social.prod-as.govaccess.org/home/showpublisheddocument/816/638277128582330000" target="_blank" id="link_1692130777471">community meeting</a> will be held at 6:00 p.m. Sept. 14 in the City Community Room (behind the police department) to discuss an EPA Brownfields Grant for the Downtown Development Authority of Social Circle.
X-ALT-DESC;FMTTYPE=text/html:A <a href="https://social.prod-as.govaccess.org/home/showpublisheddocument/816/638277128582330000" target="_blank" id="link_1692130777471">community meeting</a> will be held at 6:00 p.m. Sept. 14 in the City Community Room (behind the police department) to discuss an EPA Brownfields Grant for the Downtown Development Authority of Social Circle.
LOCATION:City Community Room\, 138 East Hightower Trail Social Circle\, Georgia 30025
CLASS:PUBLIC
END:VEVENT
END:VCALENDAR
