BEGIN:VCALENDAR
VERSION:2.0
PRODID:Social Circle, GA Calendar Creator
METHOD:PUBLISH
BEGIN:VEVENT
DTSTAMP:20230412T085656
DTSTART:20230422T080000
DTEND:20230422T120000
SUMMARY:City Wide Cleanup
DESCRIPTION:A city-wide cleanup will be held from 8:00 a.m.-noon Saturday, April 22. Meet at the City Community Room, 138 E. Hightower Trail, behind the Police Department. Help clean up Social Circle's streets. Cleanup supplies will be provided. For more information, contact <a href="mailto:amckibben@socialcirclega.gov?subject=amckibben@socialcirclega.gov" id="email_1681303698967" title="amckibben@socialcirclega.gov">Downtown Director Amber McKibben</a>.
X-ALT-DESC;FMTTYPE=text/html:A city-wide cleanup will be held from 8:00 a.m.-noon Saturday, April 22. Meet at the City Community Room, 138 E. Hightower Trail, behind the Police Department. Help clean up Social Circle's streets. Cleanup supplies will be provided. For more information, contact <a href="mailto:amckibben@socialcirclega.gov?subject=amckibben@socialcirclega.gov" id="email_1681303698967" title="amckibben@socialcirclega.gov">Downtown Director Amber McKibben</a>.
LOCATION:
CLASS:PUBLIC
END:VEVENT
END:VCALENDAR
