BEGIN:VCALENDAR
VERSION:2.0
PRODID:Social Circle, GA Calendar Creator
METHOD:PUBLISH
BEGIN:VEVENT
DTSTAMP:20230501T083148
DTSTART:20230505T000000
DTEND:20230507T235900
SUMMARY:City Wide Yard Sale Weekend
DESCRIPTION:Ready to declutter your space? Consider selling your once valued treasures to appreciative bargain hunters during the City-wide Yard Sale May 5-7.<br>Residents are not required to have a yard sale permit, but they should call 770-464-1866 by May 2 to be included on a list of participants. Email Downtown Director Amber McKibben at amckibben@socialcirclega.gov for details.
X-ALT-DESC;FMTTYPE=text/html:Ready to declutter your space? Consider selling your once valued treasures to appreciative bargain hunters during the City-wide Yard Sale May 5-7.<br>Residents are not required to have a yard sale permit, but they should call 770-464-1866 by May 2 to be included on a list of participants. Email Downtown Director Amber McKibben at amckibben@socialcirclega.gov for details.
LOCATION:Social Circle\, 
CLASS:PUBLIC
END:VEVENT
END:VCALENDAR
