BEGIN:VCALENDAR
VERSION:2.0
PRODID:Social Circle, GA Calendar Creator
METHOD:PUBLISH
BEGIN:VEVENT
DTSTAMP:20230424T165232
DTSTART:20230511T183000
DTEND:20230511T193000
SUMMARY:Mayor and City Council Work Session
DESCRIPTION:<p><a href="https://socialcirclecityga.iqm2.com/Citizens/Default.aspx">Meeting Portal - City of Social Circle, Georgia (iqm2.com)</a></p><p>&nbsp;The Mayor and City Council work session was rescheduled to May 11.&nbsp;</p>
X-ALT-DESC;FMTTYPE=text/html:<p><a href="https://socialcirclecityga.iqm2.com/Citizens/Default.aspx">Meeting Portal - City of Social Circle, Georgia (iqm2.com)</a></p><p>&nbsp;The Mayor and City Council work session was rescheduled to May 11.&nbsp;</p>
LOCATION:City Community Room\, 138 East Hightower Trail Social Circle\, Georgia 30025
CLASS:PUBLIC
END:VEVENT
END:VCALENDAR
