BEGIN:VCALENDAR
VERSION:2.0
PRODID:Social Circle, GA Calendar Creator
METHOD:PUBLISH
BEGIN:VEVENT
DTSTAMP:20231130T125657
DTSTART:20231228T180000
DTEND:20231228T190000
SUMMARY:Tree Board
DESCRIPTION:<p>The Tree Board in its new role provides educational and community outreach and plans Arbor Day observances.</p><a href="http://socialcirclecityga.iqm2.com/Citizens/Default.aspx">Meeting Portal - City of Social Circle, Georgia (iqm2.com)</a><p>&nbsp;</p>
X-ALT-DESC;FMTTYPE=text/html:<p>The Tree Board in its new role provides educational and community outreach and plans Arbor Day observances.</p><a href="http://socialcirclecityga.iqm2.com/Citizens/Default.aspx">Meeting Portal - City of Social Circle, Georgia (iqm2.com)</a><p>&nbsp;</p>
LOCATION:City Community Room\, 138 East Hightower Trail Social Circle\, Georgia 30025
CLASS:PUBLIC
END:VEVENT
END:VCALENDAR
