BEGIN:VCALENDAR
VERSION:2.0
PRODID:Social Circle, GA Calendar Creator
METHOD:PUBLISH
BEGIN:VEVENT
DTSTAMP:20230720T153203
DTSTART:20230727T180000
DTEND:20230727T190000
SUMMARY:Tree Board meeting CANCELLED
DESCRIPTION:<p>The Tree Board was created to protect and preserve the trees within the City public spaces and to oversee the protection, preservation, and planting of trees in new construction as set forth in the Code of Ordinances.</p><p><a href="http://socialcirclecityga.iqm2.com/Citizens/Default.aspx">Meeting Portal - City of Social Circle, Georgia (iqm2.com)</a></p>
X-ALT-DESC;FMTTYPE=text/html:<p>The Tree Board was created to protect and preserve the trees within the City public spaces and to oversee the protection, preservation, and planting of trees in new construction as set forth in the Code of Ordinances.</p><p><a href="http://socialcirclecityga.iqm2.com/Citizens/Default.aspx">Meeting Portal - City of Social Circle, Georgia (iqm2.com)</a></p>
LOCATION:City Community Room\, 138 East Hightower Trail Social Circle\, Georgia 30025
CLASS:PUBLIC
END:VEVENT
END:VCALENDAR
