BEGIN:VCALENDAR
VERSION:2.0
PRODID:Social Circle, GA Calendar Creator
METHOD:PUBLISH
BEGIN:VEVENT
DTSTAMP:20230126T151116
DTSTART:20230126T180000
DTEND:20230126T190000
SUMMARY:Tree Board
DESCRIPTION:<p>The Tree Board was created to protect and preserve the trees within the City public spaces and to oversee the protection, preservation, and planting of trees in new construction as set forth in the Code of Ordinances.</p><p><a href="https://socialcirclega.prod.govaccess.org/departments/agendas-and-minutes#!/">Agendas and Minutes | Social Circle, GA (govaccess.org)</a></p>
X-ALT-DESC;FMTTYPE=text/html:<p>The Tree Board was created to protect and preserve the trees within the City public spaces and to oversee the protection, preservation, and planting of trees in new construction as set forth in the Code of Ordinances.</p><p><a href="https://socialcirclega.prod.govaccess.org/departments/agendas-and-minutes#!/">Agendas and Minutes | Social Circle, GA (govaccess.org)</a></p>
LOCATION:City Community Room\, 138 East Hightower Trail Social Circle\, Georgia 30025
CLASS:PUBLIC
END:VEVENT
END:VCALENDAR
