BEGIN:VCALENDAR
VERSION:2.0
PRODID:Social Circle, GA Calendar Creator
METHOD:PUBLISH
BEGIN:VEVENT
DTSTAMP:20230201T144915
DTSTART:20231121T183000
DTEND:20231121T193000
SUMMARY:Mayor and City Council Regular Meeting
DESCRIPTION:<a href="http://socialcirclecityga.iqm2.com/Citizens/Default.aspx">Meeting Portal - City of Social Circle, Georgia (iqm2.com)</a>
X-ALT-DESC;FMTTYPE=text/html:<a href="http://socialcirclecityga.iqm2.com/Citizens/Default.aspx">Meeting Portal - City of Social Circle, Georgia (iqm2.com)</a>
LOCATION:City Community Room\, 138 East Hightower Trail Social Circle\, Georgia 30025
CLASS:PUBLIC
END:VEVENT
END:VCALENDAR
