BEGIN:VCALENDAR
VERSION:2.0
PRODID:Social Circle, GA Calendar Creator
METHOD:PUBLISH
BEGIN:VEVENT
DTSTAMP:20230201T142552
DTSTART:20230516T183000
DTEND:20230516T193000
SUMMARY:Mayor and City Council Regular Meeting
DESCRIPTION:<a href="http://socialcirclecityga.iqm2.com/Citizens/Default.aspx" target="_blank" id="link_1675279548708">For agendas and minutes.&nbsp;</a>
X-ALT-DESC;FMTTYPE=text/html:<a href="http://socialcirclecityga.iqm2.com/Citizens/Default.aspx" target="_blank" id="link_1675279548708">For agendas and minutes.&nbsp;</a>
LOCATION:City Community Room\, 138 East Hightower Trail Social Circle\, Georgia 30025
CLASS:PUBLIC
END:VEVENT
END:VCALENDAR
