BEGIN:VCALENDAR
VERSION:2.0
PRODID:Social Circle, GA Calendar Creator
METHOD:PUBLISH
BEGIN:VEVENT
DTSTAMP:20230202T085540
DTSTART:20230425T180000
DTEND:20230425T190000
SUMMARY:Planning/Corridor Commission meeting
DESCRIPTION:<p>The Planning/Corridor Commission was established to facilitate a coordinated and harmonious development of the City. The Planning/Corridor Commission is established to protect and enhance the Highway 11 and the North Cherokee Road and South Cherokee Road Corridors&nbsp;as these corridors have a direct impact on places, with special historical, cultural, or aesthetic interest or values.</p><p><a href="http://socialcirclecityga.iqm2.com/Citizens/Default.aspx">Meeting Portal - City of Social Circle, Georgia (iqm2.com)</a></p>
X-ALT-DESC;FMTTYPE=text/html:<p>The Planning/Corridor Commission was established to facilitate a coordinated and harmonious development of the City. The Planning/Corridor Commission is established to protect and enhance the Highway 11 and the North Cherokee Road and South Cherokee Road Corridors&nbsp;as these corridors have a direct impact on places, with special historical, cultural, or aesthetic interest or values.</p><p><a href="http://socialcirclecityga.iqm2.com/Citizens/Default.aspx">Meeting Portal - City of Social Circle, Georgia (iqm2.com)</a></p>
LOCATION:City Community Room\, 138 East Hightower Trail Social Circle\, Georgia 30025
CLASS:PUBLIC
END:VEVENT
END:VCALENDAR
