BEGIN:VCALENDAR
VERSION:2.0
PRODID:Social Circle, GA Calendar Creator
METHOD:PUBLISH
BEGIN:VEVENT
DTSTAMP:20230202T091540
DTSTART:20231114T180000
DTEND:20231114T190000
SUMMARY:Historic Preservation Commission
DESCRIPTION:<p>The City established the Historic Preservation Commission to provide a uniform procedure for use in providing for the protection, enhancement, perpetuation and use of places, district, sites, buildings, structures, objects, and landscape features having a special historical, cultural or aesthetic interest or value.&nbsp;The HPC meets every 2nd Tuesday of the month at 6:00 p.m. in the City Community Room, 138 E. Hightower Trail. To see the agenda for this meeting, go to&nbsp;<a href="http://socialcirclecityga.iqm2.com/Citizens/Default.aspx" target="_blank" id="link_1675280923203">Meetings and Agendas.</a></p>
X-ALT-DESC;FMTTYPE=text/html:<p>The City established the Historic Preservation Commission to provide a uniform procedure for use in providing for the protection, enhancement, perpetuation and use of places, district, sites, buildings, structures, objects, and landscape features having a special historical, cultural or aesthetic interest or value.&nbsp;The HPC meets every 2nd Tuesday of the month at 6:00 p.m. in the City Community Room, 138 E. Hightower Trail. To see the agenda for this meeting, go to&nbsp;<a href="http://socialcirclecityga.iqm2.com/Citizens/Default.aspx" target="_blank" id="link_1675280923203">Meetings and Agendas.</a></p>
LOCATION:City Community Room\, 138 East Hightower Trail Social Circle\, Georgia 30025
CLASS:PUBLIC
END:VEVENT
END:VCALENDAR
