BEGIN:VCALENDAR
VERSION:2.0
PRODID:Social Circle, GA Calendar Creator
METHOD:PUBLISH
BEGIN:VEVENT
DTSTAMP:20231113T135230
DTSTART:20231114T080000
DTEND:20231114T090000
SUMMARY:Main Street Commission meeting CANCELLED
DESCRIPTION:The Social Circle Main Street Commission meets at 8 a.m. the second Tuesday of every month at The City Community Room, 138 East Hightower Trail, behind the Police Department. To see the agenda for this meeting, go to&nbsp;<a href="http://socialcirclecityga.iqm2.com/Citizens/Default.aspx" target="_blank" id="link_1675280877342">Meetings and Agendas.</a>
X-ALT-DESC;FMTTYPE=text/html:The Social Circle Main Street Commission meets at 8 a.m. the second Tuesday of every month at The City Community Room, 138 East Hightower Trail, behind the Police Department. To see the agenda for this meeting, go to&nbsp;<a href="http://socialcirclecityga.iqm2.com/Citizens/Default.aspx" target="_blank" id="link_1675280877342">Meetings and Agendas.</a>
LOCATION:City Community Room\, 138 East Hightower Trail Social Circle\, Georgia 30025
CLASS:PUBLIC
END:VEVENT
END:VCALENDAR
